BEGIN:VCALENDAR
VERSION:2.0
PRODID:-//AJL Ophthalmic - ECPv4.8.2//NONSGML v1.0//EN
CALSCALE:GREGORIAN
METHOD:PUBLISH
X-WR-CALNAME:AJL Ophthalmic
X-ORIGINAL-URL:https://ajlsa.com
X-WR-CALDESC:Eventos para AJL Ophthalmic
BEGIN:VEVENT
DTSTART;TZID=UTC+1:20171007T080000
DTEND;TZID=UTC+1:20171011T170000
DTSTAMP:20260420T092040
CREATED:20170724T070344Z
LAST-MODIFIED:20190130T120655Z
UID:13137-1507363200-1507741200@ajlsa.com
SUMMARY:XXXV Congress of the ESCRS Lisboa
DESCRIPTION:\n					\n						\n\n					\n				\n					\n						Le invitamos a visitar el Stand de Canon P1114 y descubra el potencial de su tecnología\, a través de los Expertos.\n\n\n					\n				\n
URL:https://ajlsa.com/evento/xxxv-congress-of-the-escrs-lisboa/
LOCATION:Feira internacional de Lisboa\, R. Bojador\, Lisboa\,  1998-010\, Portugal
ATTACH;FMTTYPE=image/jpeg:https://ajlsa.com/wp-content/uploads/2017/07/ESCRS_Lisbon17-banner-loc2.jpg
END:VEVENT
END:VCALENDAR