BEGIN:VCALENDAR
VERSION:2.0
PRODID:-//AJL Ophthalmic - ECPv4.8.2//NONSGML v1.0//EN
CALSCALE:GREGORIAN
METHOD:PUBLISH
X-WR-CALNAME:AJL Ophthalmic
X-ORIGINAL-URL:https://ajlsa.com
X-WR-CALDESC:Eventos para AJL Ophthalmic
BEGIN:VEVENT
DTSTART;VALUE=DATE:20160910
DTEND;VALUE=DATE:20160915
DTSTAMP:20260420T200315
CREATED:20160524T081900Z
LAST-MODIFIED:20190130T120656Z
UID:10875-1473465600-1473897599@ajlsa.com
SUMMARY:XXXIV Congreso ESCRS
DESCRIPTION:\n					\n						AJL Ophthalmic ha asistido al Congreso ESCRS\, que se celebró del 10 al 14 de septiembre de 2016 en Copenhague \nAJL Ophthalmic asistió como expositor al congreso de XXXIV ESCRS y del 16 Congreso de EURETINA\, organizados por las Sociedades Europea de Catarata y Cirugía Refractiva y de Especialistas en Retina. Los congresos tuvieron lugar del 10 al 14 en la ciudad de Copenhague (Dinamarca). \nLos congresos ESCRS y EURETINA han sido los encuentros europeos más relevantes del año\, que han reunido a oftalmólogos\, cirujanos e investigadores de todo el mundo. \n\n\n					\n				\n					\n						\n\n					\n				\n					\n						\n\n					\n				\n					\n						\n\n					\n				\n					\n						Nuestro equipo de ventas presentó nuestros productos\, así como los nuevos proyectos en los que la compañía está trabajando\, como el nuevo anillo expansor del iris\, Canabrava Ring\, diseñado por Sergio Canabrava MD\, en colaboración con AJL. Además\, en el stand de AJL se organizó un Speakers’ Corner en el que se trató sobre los nuevos procedimientos quirúrgicos para el tratamiento del queratocono. Los ponentes destacados del programa fueron los siguientes oftalmólogos: Mª Ximena Núñez\, MD (Colombia)\, Claudia Blanco\, MD (Colombia)\, Tiago Monteiro\, MD (Portugal)\, Leonardo Torquetti\, MD (Brasil)\, Paulo Ferrara\, MD (Brasil)\, Heykel Kamoun\, MD\, (Túnez). Durante los días del congreso AJL impartió también varios wet labs de Intacs y Ferrara para el tratamiento del queratocono. \nEXPERTS’ MEETINGS PROGRAMME\n\n\n\n					\n				\n					\n						\n\n					\n				\n					\n						\n\n					\n				\n					\n						INTACS & FERRARA WETLABS\n\n\n					\n				\n					\n						\n\n					\n				\n					\n						\n\n					\n				\n					\n						\n\n					\n				\n
URL:https://ajlsa.com/evento/xxxiv-congess-of-the-escrs/
ATTACH;FMTTYPE=image/png:https://ajlsa.com/wp-content/uploads/2016/05/Logo-Congreso-3.png
END:VEVENT
END:VCALENDAR