BEGIN:VCALENDAR
VERSION:2.0
PRODID:-//AJL Ophthalmic - ECPv4.8.2//NONSGML v1.0//EN
CALSCALE:GREGORIAN
METHOD:PUBLISH
X-WR-CALNAME:AJL Ophthalmic
X-ORIGINAL-URL:https://ajlsa.com
X-WR-CALDESC:Eventos para AJL Ophthalmic
BEGIN:VEVENT
DTSTART;TZID=UTC+1:20170531T080000
DTEND;TZID=UTC+1:20170602T170000
DTSTAMP:20260420T142236
CREATED:20170529T105454Z
LAST-MODIFIED:20190130T120655Z
UID:12809-1496217600-1496422800@ajlsa.com
SUMMARY:XXVII Congreso de las Sociedad Española de Cirugía Plástica Ocular y Orbitaria SECPOO
DESCRIPTION:\n					\n						\n\n					\n				\n
URL:https://ajlsa.com/evento/xxvii-congreso-las-sociedad-espanola-cirugia-plastica-ocular-orbitaria-secpoo/
LOCATION:Hospital 12 de octubre\, Avenida de Córdoba s/n\, \, Madrid\, 28041 \, España
ATTACH;FMTTYPE=image/png:https://ajlsa.com/wp-content/uploads/2017/05/Portada-Madrid-2017-e1496054985787.png
END:VEVENT
END:VCALENDAR