BEGIN:VCALENDAR
VERSION:2.0
PRODID:-//AJL Ophthalmic - ECPv4.8.2//NONSGML v1.0//EN
CALSCALE:GREGORIAN
METHOD:PUBLISH
X-WR-CALNAME:AJL Ophthalmic
X-ORIGINAL-URL:https://ajlsa.com
X-WR-CALDESC:Eventos para AJL Ophthalmic
BEGIN:VEVENT
DTSTART;VALUE=DATE:20160608
DTEND;VALUE=DATE:20160611
DTSTAMP:20260420T220947
CREATED:20160517T084304Z
LAST-MODIFIED:20190130T120656Z
UID:10766-1465344000-1465603199@ajlsa.com
SUMMARY:XXVI Congreso de la Sociedad Española de Cirugía Plástica Ocular y Orbitaria SECPOO
DESCRIPTION:\n					\n						AJL Ophthalmic ha estado presente en el congreso SECPOO de oculoplastia del 8 al 10 de junio en Bilbao \nVitoria-Gasteiz\, 10 de junio de 2016.- Más de 300 profesionales oftalmólogos especializados en oculoplastia del ámbito nacional e internacional se han dado cita en la vigésimo sexta edición del congreso SECPOO\, organizado por la Sociedad Española de Cirugía Plástica Ocular y Orbitaria\, que ha tenido lugar del 8 al 10 de junio en el Paraninfo Aretoa en Bilbao\, para informarse sobre los últimos avances e investigaciones en cirugía ocular y orbitaria. \nAJL Ophthalmic ha participado en el encuentro como expositor y ha presentado durante el mismo sus productos específicos para oculoplastia:  los implantes orbitales Oculfit\, las láminas de suelo de órbita\, los implantes palpebrales ALOS\, así como los protectores oculares\, los conformadores perforados y los anillos de simblefaron\, entre otros.s. \nEl congreso SECPOO\, que este año ha tenido como tema principal la cavidad Anoftálmica y la Prótesis Ocular en su programa científico\, ha incluido también conferencias\, mesas redondas y comunicaciones científicas donde se ha tratado sobre las últimas novedades científicas en el ámbito de la cirugía de la Órbita y Oculoplástica. \nEn el marco del congreso\, se ha presentado el libro “Cavidad Anoftálmica y Prótesis Oculares”\, del que son coautores el doctor Roberto Fernández Hermida y la doctora Bárbara Berasategui Fernández\, de la sección de Cirugía de la Órbita y Oculoplástica del Hospital de Cruces\, así como del Instituto Clínico Quirúrgico de Oftalmología (ICQO). El libro ha sido patrocinado por AJL Ophthalmic. \n\n\n					\n				\n
URL:https://ajlsa.com/evento/xxvi-congreso-la-sociedad-espanola-cirugia-plastica-ocular-orbitaria-secpoo/
LOCATION:Bilbao\, Bilbao\, España
ATTACH;FMTTYPE=image/png:https://ajlsa.com/wp-content/uploads/2016/05/Imagen-congreso-e1463487962146.png
END:VEVENT
END:VCALENDAR