BEGIN:VCALENDAR
VERSION:2.0
PRODID:-//AJL Ophthalmic - ECPv4.8.2//NONSGML v1.0//EN
CALSCALE:GREGORIAN
METHOD:PUBLISH
X-WR-CALNAME:AJL Ophthalmic
X-ORIGINAL-URL:https://ajlsa.com
X-WR-CALDESC:Eventos para AJL Ophthalmic
BEGIN:VEVENT
DTSTART;TZID=UTC+1:20180530T173000
DTEND;TZID=UTC+1:20180530T183000
DTSTAMP:20260420T215304
CREATED:20180511T105418Z
LAST-MODIFIED:20190130T120653Z
UID:14467-1527701400-1527705000@ajlsa.com
SUMMARY:WEBINAR: INDENTACIÓN MACULAR: TÉCNICA QUIRÚRGICA Y RESULTADOS
DESCRIPTION:\n					\n						\n\n					\n				\n
URL:https://ajlsa.com/evento/webinar-indentacion-macular-tecnica-quirurgica-resultados/
END:VEVENT
END:VCALENDAR