BEGIN:VCALENDAR
VERSION:2.0
PRODID:-//AJL Ophthalmic - ECPv4.8.2//NONSGML v1.0//EN
CALSCALE:GREGORIAN
METHOD:PUBLISH
X-WR-CALNAME:AJL Ophthalmic
X-ORIGINAL-URL:https://ajlsa.com
X-WR-CALDESC:Eventos para AJL Ophthalmic
BEGIN:VEVENT
DTSTART;TZID=UTC+1:20160217T080000
DTEND;TZID=UTC+1:20160217T170000
DTSTAMP:20260421T054924
CREATED:20160513T152905Z
LAST-MODIFIED:20160513T153106Z
UID:10753-1455696000-1455728400@ajlsa.com
SUMMARY:Visita estudiantes de la Escuela TECNUN de Ingeniería Biomédica
DESCRIPTION:Vitoria-Gasteiz\, 17 de febrero de 2016.- Un grupo de alumnos de la Escuela TECNUN de Ingeniería Biomédica de la Universidad de Navarra han visitado hoy las instalaciones y el laboratorio de I+D de AJL Ophthalmic. \nLa Directora de Asuntos Regulatorios e I+D+i\, Eva Larra\, y el Responsable de Calidad y Medioambiente\, Iván Álvarez\, han presentado la compañía\, ofreciéndoles una visión general de su actividad y de los proyectos más relevantes\, y a continuación han acompañado al grupo de estudiantes\, que se ha interesado por conocer el proceso de fabricación desde la concepción de la idea\, las dificultades que entraña su fabricación hasta la puesta en mercado de los productos sanitarios desarrollados por AJL para los ámbitos de la oftalmología\, oculoplastia\, tracto aéreo y reconstrucción cráneo-maxilofacial. \n\n
URL:https://ajlsa.com/evento/visita-estudiantes-la-escuela-tecnun-ingenieria-biomedica/
LOCATION:AJL Ophthalmic S.A.\, P. Tecnológico Álava\, Ferdinand Zeppelin 1 \, Miñano\, Álava\, 1510\, España
ATTACH;FMTTYPE=image/jpeg:https://ajlsa.com/wp-content/uploads/2016/02/Foto-grupo.jpg
END:VEVENT
END:VCALENDAR