BEGIN:VCALENDAR
VERSION:2.0
PRODID:-//AJL Ophthalmic - ECPv4.8.2//NONSGML v1.0//EN
CALSCALE:GREGORIAN
METHOD:PUBLISH
X-WR-CALNAME:AJL Ophthalmic
X-ORIGINAL-URL:https://ajlsa.com
X-WR-CALDESC:Eventos para AJL Ophthalmic
BEGIN:VEVENT
DTSTART;TZID=UTC+1:20161111T080000
DTEND;TZID=UTC+1:20161112T170000
DTSTAMP:20260420T215136
CREATED:20161103T131420Z
LAST-MODIFIED:20190130T120656Z
UID:11825-1478851200-1478970000@ajlsa.com
SUMMARY:VIII Jornadas de Oftalmología Pediátrica
DESCRIPTION:\n					\n						\n\n					\n				\n
URL:https://ajlsa.com/evento/viii-jornadas-oftalmologia-pediatrica/
LOCATION:Ilustre Colegio Oficial de Médicos de Zaragoza\, Paseo Ruiseñores\, 2\, Zaragoza\, 50006\, España
ATTACH;FMTTYPE=image/png:https://ajlsa.com/wp-content/uploads/2016/11/imagen-congreso.png
END:VEVENT
END:VCALENDAR