BEGIN:VCALENDAR
VERSION:2.0
PRODID:-//AJL Ophthalmic - ECPv4.8.2//NONSGML v1.0//EN
CALSCALE:GREGORIAN
METHOD:PUBLISH
X-WR-CALNAME:AJL Ophthalmic
X-ORIGINAL-URL:https://ajlsa.com
X-WR-CALDESC:Eventos para AJL Ophthalmic
BEGIN:VEVENT
DTSTART;TZID=UTC+1:20180709T090000
DTEND;TZID=UTC+1:20180712T173000
DTSTAMP:20260420T214316
CREATED:20180620T135405Z
LAST-MODIFIED:20180620T135535Z
UID:15223-1531126800-1531416600@ajlsa.com
SUMMARY:SUMMER CAMP DE GLAUCOMA
DESCRIPTION:
URL:https://ajlsa.com/evento/summer-camp-glaucoma/
LOCATION:Escola de Medicina da Universidade do Minho\, Campus de Gualtar\, Braga\, Portugal
ATTACH;FMTTYPE=image/jpeg:https://ajlsa.com/wp-content/uploads/2018/06/Glaucoma-Summer-Camp-2018.jpg
END:VEVENT
END:VCALENDAR