BEGIN:VCALENDAR
VERSION:2.0
PRODID:-//AJL Ophthalmic - ECPv4.8.2//NONSGML v1.0//EN
CALSCALE:GREGORIAN
METHOD:PUBLISH
X-WR-CALNAME:AJL Ophthalmic
X-ORIGINAL-URL:https://ajlsa.com
X-WR-CALDESC:Eventos para AJL Ophthalmic
BEGIN:VEVENT
DTSTART;TZID=UTC+1:20200221T080000
DTEND;TZID=UTC+1:20200222T170000
DTSTAMP:20260420T135940
CREATED:20200214T073539Z
LAST-MODIFIED:20200214T073653Z
UID:24545-1582272000-1582390800@ajlsa.com
SUMMARY:SEOVET 2020
DESCRIPTION: \n
URL:https://ajlsa.com/evento/seovet-2020/
LOCATION:Hotel Ilunion Pío XII\, Avenida Pío XII\, 77\, Madrid\, Madrid\, 28016\, España
END:VEVENT
END:VCALENDAR