BEGIN:VCALENDAR
VERSION:2.0
PRODID:-//AJL Ophthalmic - ECPv4.8.2//NONSGML v1.0//EN
CALSCALE:GREGORIAN
METHOD:PUBLISH
X-WR-CALNAME:AJL Ophthalmic
X-ORIGINAL-URL:https://ajlsa.com
X-WR-CALDESC:Eventos para AJL Ophthalmic
BEGIN:VEVENT
DTSTART;TZID=UTC+1:20181218T080000
DTEND;TZID=UTC+1:20190102T170000
DTSTAMP:20260421T100837
CREATED:20181218T112359Z
LAST-MODIFIED:20190130T120650Z
UID:20496-1545120000-1546448400@ajlsa.com
SUMMARY:Merry Christmas
DESCRIPTION:\n					\n						For privacy reasons YouTube needs your permission to be loaded.I Accept\n\n					\n				\n
URL:https://ajlsa.com/evento/merry-christmas/
END:VEVENT
END:VCALENDAR