BEGIN:VCALENDAR
VERSION:2.0
PRODID:-//AJL Ophthalmic - ECPv4.8.2//NONSGML v1.0//EN
CALSCALE:GREGORIAN
METHOD:PUBLISH
X-WR-CALNAME:AJL Ophthalmic
X-ORIGINAL-URL:https://ajlsa.com
X-WR-CALDESC:Eventos para AJL Ophthalmic
BEGIN:VEVENT
DTSTART;TZID=UTC+1:20181011T080000
DTEND;TZID=UTC+1:20181015T170000
DTSTAMP:20260421T052620
CREATED:20180615T110853Z
LAST-MODIFIED:20190130T120653Z
UID:15145-1539244800-1539622800@ajlsa.com
SUMMARY:ESVO - Scientific Topic - Retina
DESCRIPTION:\n					\n						\n \n\n\n					\n				\n
URL:https://ajlsa.com/evento/esvo-scientific-topic-retina/
LOCATION:Recinto sin nombre\, Prague\, República Checa
ATTACH;FMTTYPE=image/jpeg:https://ajlsa.com/wp-content/uploads/2018/06/prague2018.jpg
END:VEVENT
END:VCALENDAR