BEGIN:VCALENDAR
VERSION:2.0
PRODID:-//AJL Ophthalmic - ECPv4.8.2//NONSGML v1.0//EN
CALSCALE:GREGORIAN
METHOD:PUBLISH
X-WR-CALNAME:AJL Ophthalmic
X-ORIGINAL-URL:https://ajlsa.com
X-WR-CALDESC:Eventos para AJL Ophthalmic
BEGIN:VEVENT
DTSTART;TZID=UTC+1:20180510T080000
DTEND;TZID=UTC+1:20180513T170000
DTSTAMP:20260420T195241
CREATED:20180321T141213Z
LAST-MODIFIED:20190130T120653Z
UID:14156-1525939200-1526230800@ajlsa.com
SUMMARY:ECVO Congress 2018
DESCRIPTION:\n					\n						\n\n					\n				\n
URL:https://ajlsa.com/evento/ecvo-congress-2018/
LOCATION:Florence Congress Center\, Piazza Adua\, 1\, Florence\, 50123 \, Italia
ATTACH;FMTTYPE=image/jpeg:https://ajlsa.com/wp-content/uploads/2018/03/ecvo-imagen1-1.jpg
END:VEVENT
END:VCALENDAR