BEGIN:VCALENDAR
VERSION:2.0
PRODID:-//AJL Ophthalmic - ECPv4.8.2//NONSGML v1.0//EN
CALSCALE:GREGORIAN
METHOD:PUBLISH
X-WR-CALNAME:AJL Ophthalmic
X-ORIGINAL-URL:https://ajlsa.com
X-WR-CALDESC:Eventos para AJL Ophthalmic
BEGIN:VEVENT
DTSTART;TZID=UTC+1:20190523T080000
DTEND;TZID=UTC+1:20190526T170000
DTSTAMP:20260421T050453
CREATED:20190415T145509Z
LAST-MODIFIED:20190510T084239Z
UID:22404-1558598400-1558890000@ajlsa.com
SUMMARY:ECVO Conference
DESCRIPTION: \n
URL:https://ajlsa.com/evento/ecvo-conference/
LOCATION:Hilton Antwerp Old Town
ATTACH;FMTTYPE=image/jpeg:https://ajlsa.com/wp-content/uploads/2019/04/startseite_neu2.jpg
END:VEVENT
END:VCALENDAR