BEGIN:VCALENDAR
VERSION:2.0
PRODID:-//AJL Ophthalmic - ECPv4.8.2//NONSGML v1.0//EN
CALSCALE:GREGORIAN
METHOD:PUBLISH
X-WR-CALNAME:AJL Ophthalmic
X-ORIGINAL-URL:https://ajlsa.com
X-WR-CALDESC:Eventos para AJL Ophthalmic
BEGIN:VEVENT
DTSTART;TZID=UTC+1:20180216T090000
DTEND;TZID=UTC+1:20180217T190000
DTSTAMP:20260420T141923
CREATED:20180208T094757Z
LAST-MODIFIED:20190130T120654Z
UID:13889-1518771600-1518894000@ajlsa.com
SUMMARY:Congreso SEOVET
DESCRIPTION:\n					\n						\n\n					\n				\n
URL:https://ajlsa.com/evento/congreso-seovet/
LOCATION:Hotel Ilunion Pío XII\, Avenida Pío XII\, 77\, Madrid\, Madrid\, 28016\, España
ATTACH;FMTTYPE=image/png:https://ajlsa.com/wp-content/uploads/2016/12/Imagen-congreso.png
END:VEVENT
END:VCALENDAR