BEGIN:VCALENDAR
VERSION:2.0
PRODID:-//AJL Ophthalmic - ECPv4.8.2//NONSGML v1.0//EN
CALSCALE:GREGORIAN
METHOD:PUBLISH
X-WR-CALNAME:AJL Ophthalmic
X-ORIGINAL-URL:https://ajlsa.com
X-WR-CALDESC:Eventos para AJL Ophthalmic
BEGIN:VEVENT
DTSTART;TZID=UTC+1:20160604T090000
DTEND;TZID=UTC+1:20160604T193000
DTSTAMP:20260420T234709
CREATED:20160531T102038Z
LAST-MODIFIED:20190130T120656Z
UID:10945-1465030800-1465068600@ajlsa.com
SUMMARY:Congreso de oftalmología veterinaria: “Manifestaciones oculares de enfermedades sistémicas”
DESCRIPTION:\n					\n						AJL Ophthalmic fomenta  el Congreso de ofltalmología veterinaria: «Manifestaciones oculares de enfermedades sistémicas\, organizado el por el IVO\, Instituto Veterinario Oftalmológico \nEl congreso tiene por objetivo mostrar cómo la colaboración estrecha entre el veterinario generalista\, el esperto en medicina interna y el oftalmólogo puede mejorar el pronóstico de enfermedades sistémicas. \nSe presentarán las últimas tendencias en el abordaje integral de enfermedades sistémicas de origen endocrino\, vascular\, infeccioso y parasitario como la diabetes\,  hiperadrenocorticismo\, hipertensión\, uveitis\, leishmania\, y en particular de enfermedades emergenes como la rickettsia\, toxoplasma i lesptospirosis. \n\n\n					\n				\n					\n						.fusion-button.button-1 .fusion-button-text\, .fusion-button.button-1 i {color:#ffffff;}.fusion-button.button-1 {border-width:1px;border-color:#ffffff;}.fusion-button.button-1 .fusion-button-icon-divider{border-color:#ffffff;}.fusion-button.button-1:hover .fusion-button-text\, .fusion-button.button-1:hover i\,.fusion-button.button-1:focus .fusion-button-text\, .fusion-button.button-1:focus i\,.fusion-button.button-1:active .fusion-button-text\, .fusion-button.button-1:active{color:#ffffff;}.fusion-button.button-1:hover\, .fusion-button.button-1:focus\, .fusion-button.button-1:active{border-width:1px;border-color:#ffffff;}.fusion-button.button-1:hover .fusion-button-icon-divider\, .fusion-button.button-1:hover .fusion-button-icon-divider\, .fusion-button.button-1:active .fusion-button-icon-divider{border-color:#ffffff;}.fusion-button.button-1{width:auto;}Descargar programa\n\n					\n				\n
URL:https://ajlsa.com/evento/congreso-oftalmologia-veterinaria-manifestaciones-oculares-enfermedades-sistemicas/
LOCATION:Barcelona\, Auditorio IMO Josep María Lladó\, 3 (ronda de Dalt\, salida 7)\, Barcelona\, 8035\, España
ATTACH;FMTTYPE=image/jpeg:https://ajlsa.com/wp-content/uploads/2016/05/Congreso_IVO.jpg
END:VEVENT
END:VCALENDAR