BEGIN:VCALENDAR
VERSION:2.0
PRODID:-//AJL Ophthalmic - ECPv4.8.2//NONSGML v1.0//EN
CALSCALE:GREGORIAN
METHOD:PUBLISH
X-WR-CALNAME:AJL Ophthalmic
X-ORIGINAL-URL:https://ajlsa.com
X-WR-CALDESC:Eventos para AJL Ophthalmic
BEGIN:VEVENT
DTSTART;TZID=UTC+1:20160205T080000
DTEND;TZID=UTC+1:20160209T170000
DTSTAMP:20260421T054702
CREATED:20160513T153812Z
LAST-MODIFIED:20190130T120657Z
UID:10754-1454659200-1455037200@ajlsa.com
SUMMARY:Congreso Mundial de Oftalmología WOC 2016
DESCRIPTION:\n					\n						AJL Ophthalmic asistió como expositor en el 35º Congreso Mundial de oftalmología WOC 2016\, organizado por la Sociedad Mexicana de Oftalmología\, el Consejo Internacional de Oftalmología y la Asociación Panamericana de oftalmología (PAAO). En el congreso\, que se celebró del 5 al 9 de febrero en la ciudad de Guadalajara\, se dieron cita oftalmólogos\, cirujanos e investigadores de todo el mundo para conocer los últimos avances científicos en el ámbito de la oftalmología.\nAJL participó con Stand\, nº 1825-1925. El equipo comercial de AJL estuvo encantado de atender a los asistentes y de presentarles nuestros productos y nuevos proyectos en los que está trabajando la compañía.\n\n\n					\n				\n					\n						\n\n					\n				\n					\n						\n\n					\n				\n					\n						\n\nAsimismo\, en el marco del congreso\, AJL Ophthalmic organizó una reunión de actualización en la técnica de esclerectomía no perforante (EPNP) en Glaucoma\, que contó con la participación del Dr. Javier González\, Glaucomátologo del Hospital Meixoeiro de Vigo\, como ponente experto.\n\n\n					\n				\n					\n						.fusion-button.button-1 .fusion-button-text\, .fusion-button.button-1 i {color:#ffffff;}.fusion-button.button-1 {border-width:1px;border-color:#ffffff;}.fusion-button.button-1 .fusion-button-icon-divider{border-color:#ffffff;}.fusion-button.button-1:hover .fusion-button-text\, .fusion-button.button-1:hover i\,.fusion-button.button-1:focus .fusion-button-text\, .fusion-button.button-1:focus i\,.fusion-button.button-1:active .fusion-button-text\, .fusion-button.button-1:active{color:#ffffff;}.fusion-button.button-1:hover\, .fusion-button.button-1:focus\, .fusion-button.button-1:active{border-width:1px;border-color:#ffffff;}.fusion-button.button-1:hover .fusion-button-icon-divider\, .fusion-button.button-1:hover .fusion-button-icon-divider\, .fusion-button.button-1:active .fusion-button-icon-divider{border-color:#ffffff;}.fusion-button.button-1{width:auto;}VISUALIZA LA PRESENTACIÓN DEL Dr. JAVIER GONZÁLEZ\n\n					\n				\n					\n						\n\n					\n				\n					\n						\n\n					\n				\n					\n						\n\n					\n				\n					\n						\n\n					\n				\n					\n						\n\n					\n				\n
URL:https://ajlsa.com/evento/congreso-mundial-oftalmologia-woc-2016/
LOCATION:Guadalajara México\, Guadalajara \, México
ATTACH;FMTTYPE=image/png:https://ajlsa.com/wp-content/uploads/2016/02/banner-2-e1454492658401.png
END:VEVENT
END:VCALENDAR