BEGIN:VCALENDAR
VERSION:2.0
PRODID:-//AJL Ophthalmic - ECPv4.8.2//NONSGML v1.0//EN
CALSCALE:GREGORIAN
METHOD:PUBLISH
X-WR-CALNAME:AJL Ophthalmic
X-ORIGINAL-URL:https://ajlsa.com
X-WR-CALDESC:Eventos para AJL Ophthalmic
BEGIN:VEVENT
DTSTART;TZID=UTC+1:20160310T080000
DTEND;TZID=UTC+1:20160312T170000
DTSTAMP:20260421T033246
CREATED:20160513T113011Z
LAST-MODIFIED:20190130T120657Z
UID:10735-1457596800-1457802000@ajlsa.com
SUMMARY:Congreso de Glaucoma SEG 2016
DESCRIPTION:La Sociedad Española de Glaucoma celebró este año la decimoprimera edición del Congreso SEG 2016\, del 10 al 12 de marzo en Toledo. \nNumerosos oftalmólogos\, glaucomátologos y profesionales sanitarios acudieron al congreso para informarse sobre las novedades del sector\, así como sobre nuevos abordajes quirúrgicos y productos específicos para el Glaucoma. \nAJL Ophthalmic participó en el encuentro con el stand número 5 y presentó durante el congreso sus nuevos implantes para Glaucoma\, el implante escleral Esnoper V-2000 y el uveoescleral Esnoper Clip\, ambos indicados en el procedimiento de esclerectomía profunda no perforante (EPNP) en cirugías de ángulo abierto. Estos implantes no reabsorbibles proporcionan un espacio intraescleral permanente fijo\, que facilita el drenaje del humor acuoso para reducir la presión intraocular y evitar el daño del nervio óptico. \n \n
URL:https://ajlsa.com/evento/congreso-glaucoma-seg-2016/
LOCATION:Toledo\, Toledo\, España
ATTACH;FMTTYPE=image/png:https://ajlsa.com/wp-content/uploads/2016/03/logo_cab-2-1.png
END:VEVENT
END:VCALENDAR