BEGIN:VCALENDAR
VERSION:2.0
PRODID:-//AJL Ophthalmic - ECPv4.8.2//NONSGML v1.0//EN
CALSCALE:GREGORIAN
METHOD:PUBLISH
X-WR-CALNAME:AJL Ophthalmic
X-ORIGINAL-URL:https://ajlsa.com
X-WR-CALDESC:Eventos para AJL Ophthalmic
BEGIN:VEVENT
DTSTART;TZID=UTC+1:20160226T080000
DTEND;TZID=UTC+1:20160228T170000
DTSTAMP:20260421T052728
CREATED:20160513T125324Z
LAST-MODIFIED:20190130T120657Z
UID:10739-1456473600-1456678800@ajlsa.com
SUMMARY:Congreso ESCRS Winter Meeting 2016
DESCRIPTION:\n					\n						AJL Ophthalmic acudió como expositor a la vigésima edición del Congreso ESCRS Winter Meeting\, organizado conjuntamente con el 30 Congreso Internacional de HSIOIRS. En el congreso\, que se celebró del 26 al 28 de febrero en la ciudad de Atenas en Grecia\, se dieron cita oftalmólogos\, cirujanos e investigadores de todo el mundo para conocer los últimos avances científicos en el ámbito de la oftalmología. \nAJL dispuso de Stand\, el número M25. Asimismo\, en el marco del congreso\, la empresa organizó dos Wet Labs sobre la técnica quirúrgica de implantación de los segmentos Intacs y Ferrara. Durante estos cursos de entrenamiento en la implantación de ambos productos\, se incidió en las indicaciones de uso de los segmentos para el tratamiento del queratocono\, así como se mostraron las diferentes técnicas quirúrgicas. \n\n\n					\n				\n					\n						Programa Intacs Corneal Rings Wet lab\n\nSábado\, 27 de febrero\nHora: 18.15-20.00\nLugar: Congreso ESCRS\nCourse 14\n\n. \nInstructor: Adel Barbara\, MD iVision Refractive Surgery & Keratoconus Treatment Center\, Israel \n\n\n					\n				\n					\n						Programa Ferrara Ring Wet lab\n\nViernes\, 26 de febrero\nHora: 18.30pm- 20.0\nLugar: Congreso ESCRS Winter Meeting\nCourse 20\n\nInstructor: Jesús Merayo\, MD Instituto Oftalmológico Fernández-Vega\, España \n\n\n					\n				\n
URL:https://ajlsa.com/evento/congreso-escrs-winter-meeting-2016/
LOCATION:Atenas\, Atengas\, Grecia
ATTACH;FMTTYPE=image/jpeg:https://ajlsa.com/wp-content/uploads/2016/02/ESCRS_Athens2016_461x172px2-1.jpg
END:VEVENT
END:VCALENDAR