BEGIN:VCALENDAR
VERSION:2.0
PRODID:-//AJL Ophthalmic - ECPv4.8.2//NONSGML v1.0//EN
CALSCALE:GREGORIAN
METHOD:PUBLISH
X-WR-CALNAME:AJL Ophthalmic
X-ORIGINAL-URL:https://ajlsa.com
X-WR-CALDESC:Eventos para AJL Ophthalmic
BEGIN:VEVENT
DTSTART;TZID=UTC+1:20160519T080000
DTEND;TZID=UTC+1:20160522T170000
DTSTAMP:20260420T215239
CREATED:20160513T104316Z
LAST-MODIFIED:20190130T120657Z
UID:10731-1463644800-1463936400@ajlsa.com
SUMMARY:Conferencia europea de oftalmología veterinaria ECVO 2016
DESCRIPTION:\n					\n						AJL Ophthalmic presente en ECVO 2016\, la conferencia europea de oftalmología veterinaria\, del 19 al 22 de mayo en Budapest \nVitoria-Gasteiz\, 23 de mayo de 2016.-AJL Ophthalmic ha estado presente como expositor en la conferencia europea anual de oftalmología veterinaria\, ECVO 2016\, que se ha celebrado del 19 al 22 de mayo en Budapest. \nEste encuentro anual sobre veterinaria\, que ha tenido como tema principal la proyección de la imagen ocular en su programa científico\, ha reunido a numerosos veterinarios especializados en oftalmología y a profesionales del sector que se dieron cita para informarse sobre los últimos avances e investigaciones en oftalmología veterinaria\, así como sobre nuevos tratamientos\, abordajes quirúrgicos y productos. \nAJL Ophthalmic presentó durante el mismo su nueva línea Premium de Veterinaria\, AJL VET\, que incorpora productos específicos para cirugía de catarata: las lentes intraoculares Liocan para perro y anillos de tensión capsular AJL\, así como la tinción capsular Bluevet\, y las soluciones viscolásticas\, Viscovet y Cellvet\, entre otros. \n\n\n					\n				\n					\n						\n\n					\n				\n
URL:https://ajlsa.com/evento/conferencia-europea-oftalmologia-veterinaria-ecvo-2016/
LOCATION:Budapest\, Budapest\, Hungría
ATTACH;FMTTYPE=image/jpeg:https://ajlsa.com/wp-content/uploads/2016/05/Logo-Congreso-noticia.jpg
END:VEVENT
END:VCALENDAR