BEGIN:VCALENDAR
VERSION:2.0
PRODID:-//AJL Ophthalmic - ECPv4.8.2//NONSGML v1.0//EN
CALSCALE:GREGORIAN
METHOD:PUBLISH
X-WR-CALNAME:AJL Ophthalmic
X-ORIGINAL-URL:https://ajlsa.com
X-WR-CALDESC:Eventos para AJL Ophthalmic
BEGIN:VEVENT
DTSTART;TZID=UTC+1:20190618T080000
DTEND;TZID=UTC+1:20190621T170000
DTSTAMP:20260421T011755
CREATED:20190702T083522Z
LAST-MODIFIED:20190702T083651Z
UID:22848-1560844800-1561136400@ajlsa.com
SUMMARY:British Oculoplastic Surgery Society
DESCRIPTION:It has been a pleasure for AJL to collaborate with @Kestrelophthalmics in the The British Oculoplastic Surgery Society – 19th – 21st June 2019 \n	\n\n    2c17d8a9-7701-4b67-aaa7-2a839a3ad247\n\n		\n        \n            \n        \n	   \n\n    \n\n        \n            \n                ◄ Volver            \n        \n\n        \n            \n                Siguiente                ►\n            \n        \n\n        \n            Imagen 1 De 2        \n\n        \n            \n                              \n        \n\n    \n\n\n\n	jQuery(function($) {\n		new NggPaginatedGallery('2be27e6bf7f233583db84fd04e12d4b6'\, '.ngg-imagebrowser');\n	});\n\n
URL:https://ajlsa.com/evento/british-oculoplastic-surgery-society/
ATTACH;FMTTYPE=image/png:https://ajlsa.com/wp-content/uploads/2019/07/bopss-logo-17.png
END:VEVENT
END:VCALENDAR