BEGIN:VCALENDAR
VERSION:2.0
PRODID:-//AJL Ophthalmic - ECPv4.8.2//NONSGML v1.0//EN
CALSCALE:GREGORIAN
METHOD:PUBLISH
X-WR-CALNAME:AJL Ophthalmic
X-ORIGINAL-URL:https://ajlsa.com
X-WR-CALDESC:Eventos para AJL Ophthalmic
BEGIN:VEVENT
DTSTART;TZID=UTC+1:20151114T080000
DTEND;TZID=UTC+1:20151117T170000
DTSTAMP:20260421T074433
CREATED:20160812T123647Z
LAST-MODIFIED:20190130T120656Z
UID:11269-1447488000-1447779600@ajlsa.com
SUMMARY:AJL Ophthalmic participó en la reunión anual de la Asociación Americana de Oftalmología AAO\, que tupo lugar del 14 al 17 de noviembre en Las Vegas
DESCRIPTION:\n					\n						\n\n					\n				\n					\n						\n\n					\n				\n					\n						La Asociación Americana de Oftalmología organizó su Congreso anual en esta ocasión en la ciudad de Las Vegas del 14 al 17 de noviembre. \nAJL OPHTHALMIC estuvo también presente en este acontecimiento en el Stand nº 4237. \n<a href=»http://www.expocad.com/host/fx/aaophthalmology/aao15/default.html?IAH=3464\,1702&amp;units=F»>UBICACIÓN</a> \nEl equipo de AJL presentó en el congreso los nuevos productos y proyectos en los que está trabajando la compañía. \nCon motivo de esta importante cita\, AJL tuvo el placer de invitar a sus clientes y usuarios del producto Intacs a participar en una interesante reunión sobre Queratocono\, que se celebró el 13 de noviembre a las 18 horas en el Hotel Wynn Las Vegas y en la que se dieron cita numerosos especialistas internacionales. \n\n\n					\n				\n					\n						Si desean más información\, por favor envíennos un correo electrónico a la siguiente dirección: <a href=»mailto:marketing@ajlsa.com»>marketing@ajlsa.com</a> \n.fusion-button.button-1 .fusion-button-text\, .fusion-button.button-1 i {color:#575757;}.fusion-button.button-1 {border-width:1px;border-color:#575757;}.fusion-button.button-1 .fusion-button-icon-divider{border-color:#575757;}.fusion-button.button-1:hover .fusion-button-text\, .fusion-button.button-1:hover i\,.fusion-button.button-1:focus .fusion-button-text\, .fusion-button.button-1:focus i\,.fusion-button.button-1:active .fusion-button-text\, .fusion-button.button-1:active{color:#575757;}.fusion-button.button-1:hover\, .fusion-button.button-1:focus\, .fusion-button.button-1:active{border-width:1px;border-color:#575757;}.fusion-button.button-1:hover .fusion-button-icon-divider\, .fusion-button.button-1:hover .fusion-button-icon-divider\, .fusion-button.button-1:active .fusion-button-icon-divider{border-color:#575757;}.fusion-button.button-1{background: transparent;}.fusion-button.button-1:hover\,.button-1:focus\,.fusion-button.button-1:active{background: transparent;}.fusion-button.button-1{width:auto;}Visita la web del evento\n\n					\n				\n
URL:https://ajlsa.com/evento/ajl-ophthalmic-participo-la-reunion-anual-la-asociacion-americana-oftalmologia-aao-tupo-lugar-del-14-al-17-noviembre-las-vegas/
LOCATION:Chicago\, Chicago\, Estados Unidos
ATTACH;FMTTYPE=image/jpeg:https://ajlsa.com/wp-content/uploads/2015/10/AAO_2015.jpg
END:VEVENT
END:VCALENDAR