BEGIN:VCALENDAR
VERSION:2.0
PRODID:-//AJL Ophthalmic - ECPv4.8.2//NONSGML v1.0//EN
CALSCALE:GREGORIAN
METHOD:PUBLISH
X-WR-CALNAME:AJL Ophthalmic
X-ORIGINAL-URL:https://ajlsa.com
X-WR-CALDESC:Eventos para AJL Ophthalmic
BEGIN:VEVENT
DTSTART;TZID=UTC+1:20171111T080000
DTEND;TZID=UTC+1:20171114T170000
DTSTAMP:20260420T104739
CREATED:20171025T141355Z
LAST-MODIFIED:20190130T120654Z
UID:13466-1510387200-1510678800@ajlsa.com
SUMMARY:AAO Congres
DESCRIPTION:\n					\n						\n\n					\n				\n
URL:https://ajlsa.com/evento/aao-congres/
LOCATION:New Orleans\, Ernest N. Morial Convention Center  \, New Orleans \, Estados Unidos
ATTACH;FMTTYPE=image/jpeg:https://ajlsa.com/wp-content/uploads/2017/10/new-orleans.jpg
END:VEVENT
END:VCALENDAR