BEGIN:VCALENDAR
VERSION:2.0
PRODID:-//AJL Ophthalmic - ECPv4.8.2//NONSGML v1.0//EN
CALSCALE:GREGORIAN
METHOD:PUBLISH
X-WR-CALNAME:AJL Ophthalmic
X-ORIGINAL-URL:https://ajlsa.com
X-WR-CALDESC:Eventos para AJL Ophthalmic
BEGIN:VEVENT
DTSTART;TZID=UTC+1:20180926T090000
DTEND;TZID=UTC+1:20180929T173000
DTSTAMP:20260421T033810
CREATED:20180522T151535Z
LAST-MODIFIED:20190130T120653Z
UID:14664-1537952400-1538242200@ajlsa.com
SUMMARY:94 Congreso de la Sociedad Española de Oftalmología
DESCRIPTION:\n					\n						VISÍTENOS EN EL STAND 14-15 (2ª PLANTA)\n\n\n					\n				\n
URL:https://ajlsa.com/evento/94-congreso-la-sociedad-espanola-oftalmologia/
LOCATION:Palacio de Exposiciones y Congresos de Granada\, Paseo del Violón\, s/n.  \, Granada \, Granada  \, 18006 \, España
ATTACH;FMTTYPE=image/jpeg:https://ajlsa.com/wp-content/uploads/2018/05/Cartel-GRANADA-2018-768x1086-1.jpg
END:VEVENT
END:VCALENDAR