BEGIN:VCALENDAR
VERSION:2.0
PRODID:-//AJL Ophthalmic - ECPv4.8.2//NONSGML v1.0//EN
CALSCALE:GREGORIAN
METHOD:PUBLISH
X-WR-CALNAME:AJL Ophthalmic
X-ORIGINAL-URL:https://ajlsa.com
X-WR-CALDESC:Eventos para AJL Ophthalmic
BEGIN:VEVENT
DTSTART;TZID=UTC+1:20160921T080000
DTEND;TZID=UTC+1:20160924T170000
DTSTAMP:20260420T200327
CREATED:20160610T095204Z
LAST-MODIFIED:20190130T120656Z
UID:10992-1474444800-1474736400@ajlsa.com
SUMMARY:92 Congreso de la Sociedad española de oftalmología SEO
DESCRIPTION:\n					\n						AJL Ophthalmic presente en la 92º edición del Congreso SEO 2016\, organizado por la Sociedad Española de Oftalmología\, del 21 al 24 de septiembre en Málaga \n  \nVitoria-Gasteiz\, 26 de septiembre de 2016.-AJL Ophthalmic ha estado presente como expositor en la 92 edición del congreso SEO 2016\, organizado cada año por la Sociedad Española de Oftalmología\, y que se ha celebrado del 21 al 24 de septiembre en Málaga. \n  \nAJL Ophthalmic ha presentado sus productos para cirugía refractiva y catarata\, córnea/queratocono\, glaucoma\, retina y oculoplastia\, así como los equipos que distribuye en España de las marcas: Canon\, Keeler\, Volk\, Tomey\, Icare\, Huvitz\, Plusoptix\, Valon\, entre otros. Asimismo\, ha presentado el nuevo equipo VOMS-100\, videomicroscopio en 3D\, y se han realizado en el Stand varias demostraciones y cirugías 3D en directo. AJL ha hecho el lanzamiento oficial de su nueva bomba de vacío para cirugía de queratocono. \n  \nEl congreso nacional más relevante del sector ha reunido a numerosos oftalmólogos y profesionales del ámbito nacional\, que se han dado cita para informarse sobre los últimos avances e investigaciones en oftalmología\, así como sobre nuevos tratamientos\, abordajes quirúrgicos y productos. \n\n\n					\n				\n
URL:https://ajlsa.com/evento/92-congreso-la-sociedad-espanola-oftalmologia-seo/
LOCATION:Palacio de Ferias y Congresos de Málaga\, Avenida de José Ortega y Gasset\, 201\, Málaga\, 29006
ATTACH;FMTTYPE=image/jpeg:https://ajlsa.com/wp-content/uploads/2016/06/portada92Congreso1.jpg
END:VEVENT
END:VCALENDAR