BEGIN:VCALENDAR
VERSION:2.0
PRODID:-//AJL Ophthalmic - ECPv4.8.2//NONSGML v1.0//EN
CALSCALE:GREGORIAN
METHOD:PUBLISH
X-WR-CALNAME:AJL Ophthalmic
X-ORIGINAL-URL:https://ajlsa.com
X-WR-CALDESC:Eventos para AJL Ophthalmic
BEGIN:VEVENT
DTSTART;TZID=UTC+1:20170630T180000
DTEND;TZID=UTC+1:20170630T203000
DTSTAMP:20260420T104857
CREATED:20170509T123555Z
LAST-MODIFIED:20190130T120655Z
UID:12621-1498845600-1498854600@ajlsa.com
SUMMARY:7th World Glaucoma Congress
DESCRIPTION:\n					\n						\n\n					\n				\n
URL:https://ajlsa.com/evento/7th-world-glaucoma-congress/
LOCATION:Original Sokos Hotel Pasila\, Maistraatinportti\, 3\, Helsinki\, 241\, Finlandia
ATTACH;FMTTYPE=image/jpeg:https://ajlsa.com/wp-content/uploads/2017/05/Helsinki-Portada-Hotel-e1494333303725.jpg
END:VEVENT
END:VCALENDAR