BEGIN:VCALENDAR
VERSION:2.0
PRODID:-//AJL Ophthalmic - ECPv4.8.2//NONSGML v1.0//EN
CALSCALE:GREGORIAN
METHOD:PUBLISH
X-WR-CALNAME:AJL Ophthalmic
X-ORIGINAL-URL:https://ajlsa.com
X-WR-CALDESC:Eventos para AJL Ophthalmic
BEGIN:VEVENT
DTSTART;TZID=UTC+1:20190405T080000
DTEND;TZID=UTC+1:20190406T170000
DTSTAMP:20260421T031652
CREATED:20190118T122301Z
LAST-MODIFIED:20190118T122308Z
UID:21860-1554451200-1554570000@ajlsa.com
SUMMARY:5th  ESASO Anterior Segment Academy
DESCRIPTION:
URL:https://ajlsa.com/evento/5th-esaso-anterior-segment-academy/
LOCATION:Auditorio de IMO\, | Josep María Lladó\, 3\, Barcelona\, 08035 \, España
ATTACH;FMTTYPE=image/jpeg:https://ajlsa.com/wp-content/uploads/2019/01/esaso-school-ophthalmology-5th-esaso-retina-academy.jpg
END:VEVENT
END:VCALENDAR