BEGIN:VCALENDAR
VERSION:2.0
PRODID:-//AJL Ophthalmic - ECPv4.8.2//NONSGML v1.0//EN
CALSCALE:GREGORIAN
METHOD:PUBLISH
X-WR-CALNAME:AJL Ophthalmic
X-ORIGINAL-URL:https://ajlsa.com
X-WR-CALDESC:Eventos para AJL Ophthalmic
BEGIN:VEVENT
DTSTART;TZID=UTC+1:20191025T080000
DTEND;TZID=UTC+1:20191026T170000
DTSTAMP:20260420T173123
CREATED:20190730T090109Z
LAST-MODIFIED:20190730T090109Z
UID:23094-1571990400-1572109200@ajlsa.com
SUMMARY:4th Glaucoma Barraquer Meeting- Inside Glaucoma
DESCRIPTION: \n
URL:https://ajlsa.com/evento/4th-glaucoma-barraquer-meeting-inside-glaucoma/
ATTACH;FMTTYPE=image/png:https://ajlsa.com/wp-content/uploads/2019/07/cartel.png
END:VEVENT
END:VCALENDAR