BEGIN:VCALENDAR
VERSION:2.0
PRODID:-//AJL Ophthalmic - ECPv4.8.2//NONSGML v1.0//EN
CALSCALE:GREGORIAN
METHOD:PUBLISH
X-WR-CALNAME:AJL Ophthalmic
X-ORIGINAL-URL:https://ajlsa.com
X-WR-CALDESC:Eventos para AJL Ophthalmic
BEGIN:VEVENT
DTSTART;TZID=UTC+1:20190914T080000
DTEND;TZID=UTC+1:20190918T170000
DTSTAMP:20260420T212450
CREATED:20190118T123139Z
LAST-MODIFIED:20190911T110741Z
UID:21866-1568448000-1568826000@ajlsa.com
SUMMARY:37th ESCRS
DESCRIPTION:AJL EVENTS – ESCRS 2019 -PARIS\n  \nLATEST NEWS IN KERATOCONUS– 15TH SEPTEBER-18:30pm-ROOM WEST 1-LEVEL 7.3 \n \n  \nESNOPER CLIP PRESENTATION– 15TH SEPTEBER-12:00pm- AJL BOOTH F113 \n  \n \n  \nAJL WETLABS– KERATOCONUS AND CANABRAVA RING- AJL BOOTH F113 \n  \n \n  \n \n  \n  \n  \n  \n
URL:https://ajlsa.com/evento/37th-escrs/
LOCATION:Paris Expo. Porte de Versalles\, Paris\, 75015 \, Francia
ATTACH;FMTTYPE=image/png:https://ajlsa.com/wp-content/uploads/2019/01/banner-ESCRS-1.png
END:VEVENT
END:VCALENDAR