BEGIN:VCALENDAR
VERSION:2.0
PRODID:-//AJL Ophthalmic - ECPv4.8.2//NONSGML v1.0//EN
CALSCALE:GREGORIAN
METHOD:PUBLISH
X-WR-CALNAME:AJL Ophthalmic
X-ORIGINAL-URL:https://ajlsa.com
X-WR-CALDESC:Eventos para AJL Ophthalmic
BEGIN:VEVENT
DTSTART;TZID=UTC+1:20190522T080000
DTEND;TZID=UTC+1:20190525T170000
DTSTAMP:20260421T031544
CREATED:20190415T143947Z
LAST-MODIFIED:20190510T081913Z
UID:22382-1558512000-1558803600@ajlsa.com
SUMMARY:34 Congreso SECOIR
DESCRIPTION: \n
URL:https://ajlsa.com/evento/34-congreso-secoir/
LOCATION:Palacio de Congresos de Santiago de Compostela\, Rúa de Miguel Ferro Caaveiro\, s/n\,\, Santiago de Compostela\, A Coruña\, 15707
ATTACH;FMTTYPE=image/jpeg:https://ajlsa.com/wp-content/uploads/2019/04/Banner-1a566cb2-1-e1555337460735.jpeg
END:VEVENT
END:VCALENDAR