BEGIN:VCALENDAR
VERSION:2.0
PRODID:-//AJL Ophthalmic - ECPv4.8.2//NONSGML v1.0//EN
CALSCALE:GREGORIAN
METHOD:PUBLISH
X-WR-CALNAME:AJL Ophthalmic
X-ORIGINAL-URL:https://ajlsa.com
X-WR-CALDESC:Eventos para AJL Ophthalmic
BEGIN:VEVENT
DTSTART;TZID=UTC+1:20200221T080000
DTEND;TZID=UTC+1:20200223T170000
DTSTAMP:20260420T121411
CREATED:20191209T135453Z
LAST-MODIFIED:20200211T160149Z
UID:24261-1582272000-1582477200@ajlsa.com
SUMMARY:24th ESCRS Winter Meeting
DESCRIPTION:It will be a pleasure to meet you at AJL Booth M23 during 24th ESCRS Winter Meeting in Marrakech. \nIf you will be attending do not miss the opportunity to join Latest News in Keratoconus Meeting and ICRS Ferrara Ring Wetlab. \nREGISTRE FOR FREE!!\n \n
URL:https://ajlsa.com/evento/24th-escrs-winter-meeting/
LOCATION:Marrakech\,\, Movenpick Hotel Mansour Eddahbi\, Marrakech\, Marruecos
ATTACH;FMTTYPE=image/png:https://ajlsa.com/wp-content/uploads/2019/12/imagen-cabecera-3.png
END:VEVENT
END:VCALENDAR