BEGIN:VCALENDAR
VERSION:2.0
PRODID:-//AJL Ophthalmic - ECPv4.8.2//NONSGML v1.0//EN
CALSCALE:GREGORIAN
METHOD:PUBLISH
X-WR-CALNAME:AJL Ophthalmic
X-ORIGINAL-URL:https://ajlsa.com/en/
X-WR-CALDESC:Events for AJL Ophthalmic
BEGIN:VEVENT
DTSTART;TZID=UTC+1:20171007T080000
DTEND;TZID=UTC+1:20171011T170000
DTSTAMP:20260420T072843
CREATED:20170825T102300Z
LAST-MODIFIED:20190130T120654Z
UID:13257-1507363200-1507741200@ajlsa.com
SUMMARY:XXXV Congress of the ESCRS Lisbon
DESCRIPTION:\n					\n						\n\n					\n				\n
URL:https://ajlsa.com/en/event/xxxv-congress-of-the-escrs-lisboa/
LOCATION:Feira internacional de Lisboa\, R. Bojador\, Lisboa\,  1998-010\, Portugal
ATTACH;FMTTYPE=image/jpeg:https://ajlsa.com/wp-content/uploads/2017/07/ESCRS_Lisbon17-banner-loc2.jpg
END:VEVENT
END:VCALENDAR