BEGIN:VCALENDAR
VERSION:2.0
PRODID:-//AJL Ophthalmic - ECPv4.8.2//NONSGML v1.0//EN
CALSCALE:GREGORIAN
METHOD:PUBLISH
X-WR-CALNAME:AJL Ophthalmic
X-ORIGINAL-URL:https://ajlsa.com/en/
X-WR-CALDESC:Events for AJL Ophthalmic
BEGIN:VEVENT
DTSTART;TZID=UTC+1:20190307T080000
DTEND;TZID=UTC+1:20190309T170000
DTSTAMP:20260421T024921
CREATED:20190118T120303Z
LAST-MODIFIED:20190118T122126Z
UID:21859-1551945600-1552150800@ajlsa.com
SUMMARY:XIV CONGRESO DE LA SOCIEDAD ESPAÑOLA DE GLAUCOMA
DESCRIPTION:
URL:https://ajlsa.com/en/event/xiv-congreso-la-sociedad-espanola-glaucoma/
LOCATION:Círculo de Bellas Artes\, Calle de Alcalá\, 42  \, Madrid\, 28014 \, España
ATTACH;FMTTYPE=image/png:https://ajlsa.com/wp-content/uploads/2019/01/cartel_2019.png
END:VEVENT
END:VCALENDAR