BEGIN:VCALENDAR
VERSION:2.0
PRODID:-//AJL Ophthalmic - ECPv4.8.2//NONSGML v1.0//EN
CALSCALE:GREGORIAN
METHOD:PUBLISH
X-WR-CALNAME:AJL Ophthalmic
X-ORIGINAL-URL:https://ajlsa.com/en/
X-WR-CALDESC:Events for AJL Ophthalmic
BEGIN:VEVENT
DTSTART;TZID=UTC+1:20180616T080000
DTEND;TZID=UTC+1:20180619T170000
DTSTAMP:20260420T161320
CREATED:20180226T130435Z
LAST-MODIFIED:20190130T120654Z
UID:14576-1529136000-1529427600@ajlsa.com
SUMMARY:World Ophthalmology Congress 2018
DESCRIPTION:\n					\n						\n\n					\n				\n
URL:https://ajlsa.com/en/event/world-ophthalmology-congress-2018/
LOCATION:Barcelona\, Auditorio IMO Josep María Lladó\, 3 (ronda de Dalt\, salida 7)\, Barcelona\, 8035\, España
ATTACH;FMTTYPE=image/jpeg:https://ajlsa.com/wp-content/uploads/2018/02/WOC_320X240p-2.jpg
END:VEVENT
END:VCALENDAR