BEGIN:VCALENDAR
VERSION:2.0
PRODID:-//AJL Ophthalmic - ECPv4.8.2//NONSGML v1.0//EN
CALSCALE:GREGORIAN
METHOD:PUBLISH
X-WR-CALNAME:AJL Ophthalmic
X-ORIGINAL-URL:https://ajlsa.com/en/
X-WR-CALDESC:Events for AJL Ophthalmic
BEGIN:VEVENT
DTSTART;TZID=UTC+1:20180530T173000
DTEND;TZID=UTC+1:20180530T183000
DTSTAMP:20260420T124427
CREATED:20180511T113014Z
LAST-MODIFIED:20190130T120653Z
UID:14484-1527701400-1527705000@ajlsa.com
SUMMARY:WEBINAR: MACULAR BUCKLING:  SURGICAL TECHNIQUE & RESULTS
DESCRIPTION:\n					\n						\n\n					\n				\n
URL:https://ajlsa.com/en/event/webinar-macular-buckling-surgical-technique-results-2/
END:VEVENT
END:VCALENDAR