BEGIN:VCALENDAR
VERSION:2.0
PRODID:-//AJL Ophthalmic - ECPv4.8.2//NONSGML v1.0//EN
CALSCALE:GREGORIAN
METHOD:PUBLISH
X-WR-CALNAME:AJL Ophthalmic
X-ORIGINAL-URL:https://ajlsa.com/en/
X-WR-CALDESC:Events for AJL Ophthalmic
BEGIN:VEVENT
DTSTART;TZID=UTC+1:20180621T080000
DTEND;TZID=UTC+1:20180623T170000
DTSTAMP:20260420T175728
CREATED:20180605T121724Z
LAST-MODIFIED:20190130T120653Z
UID:14999-1529568000-1529773200@ajlsa.com
SUMMARY:SICSSO Congress 2018
DESCRIPTION:\n					\n						\n\n					\n				\n
URL:https://ajlsa.com/en/event/sicsso-congress-2018/
LOCATION:Capaccio\, Paestum\, 84047\, Italia
ATTACH;FMTTYPE=image/jpeg:https://ajlsa.com/wp-content/uploads/2018/06/Sicsso-event-2.jpg
END:VEVENT
END:VCALENDAR