BEGIN:VCALENDAR
VERSION:2.0
PRODID:-//AJL Ophthalmic - ECPv4.8.2//NONSGML v1.0//EN
CALSCALE:GREGORIAN
METHOD:PUBLISH
X-WR-CALNAME:AJL Ophthalmic
X-ORIGINAL-URL:https://ajlsa.com/en/
X-WR-CALDESC:Events for AJL Ophthalmic
BEGIN:VEVENT
DTSTART;TZID=UTC+1:20161006T140000
DTEND;TZID=UTC+1:20161008T180000
DTSTAMP:20260420T161308
CREATED:20160928T121302Z
LAST-MODIFIED:20190130T120656Z
UID:11539-1475762400-1475949600@ajlsa.com
SUMMARY:ESVO MEETING 2016
DESCRIPTION:\n					\n						\n\n					\n				\n
URL:https://ajlsa.com/en/event/esvo-meeting-2016/
LOCATION:Recinto sin nombre\, Toulouse\, Francia
ATTACH;FMTTYPE=image/png:https://ajlsa.com/wp-content/uploads/2016/09/LOGOMEETING-131x48.png
END:VEVENT
END:VCALENDAR