BEGIN:VCALENDAR
VERSION:2.0
PRODID:-//AJL Ophthalmic - ECPv4.8.2//NONSGML v1.0//EN
CALSCALE:GREGORIAN
METHOD:PUBLISH
X-WR-CALNAME:AJL Ophthalmic
X-ORIGINAL-URL:https://ajlsa.com/en/
X-WR-CALDESC:Events for AJL Ophthalmic
BEGIN:VEVENT
DTSTART;TZID=UTC+1:20160226T080000
DTEND;TZID=UTC+1:20160228T170000
DTSTAMP:20260420T234415
CREATED:20160513T144518Z
LAST-MODIFIED:20160513T144518Z
UID:10749-1456473600-1456678800@ajlsa.com
SUMMARY:ESCRS Winter Meeting 2016
DESCRIPTION:AJL attended the 20th congress ESCRS Winter Meeting 2016 held from 26 to 28 February in Athens \n
URL:https://ajlsa.com/en/event/escrs-winter-meeting-2016/
LOCATION:Athens\, Athens\, Grecia
ATTACH;FMTTYPE=image/jpeg:https://ajlsa.com/wp-content/uploads/2016/02/ESCRS_Athens2016_461x172px2-1.jpg
END:VEVENT
END:VCALENDAR