BEGIN:VCALENDAR
VERSION:2.0
PRODID:-//AJL Ophthalmic - ECPv4.8.2//NONSGML v1.0//EN
CALSCALE:GREGORIAN
METHOD:PUBLISH
X-WR-CALNAME:AJL Ophthalmic
X-ORIGINAL-URL:https://ajlsa.com/en/
X-WR-CALDESC:Events for AJL Ophthalmic
BEGIN:VEVENT
DTSTART;TZID=UTC+1:20171030T080000
DTEND;TZID=UTC+1:20171030T170000
DTSTAMP:20260420T091737
CREATED:20171030T162942Z
LAST-MODIFIED:20190130T120654Z
UID:13531-1509350400-1509382800@ajlsa.com
SUMMARY:AAO Congress
DESCRIPTION:\n					\n						\n\n					\n				\n
URL:https://ajlsa.com/en/event/aao-congress/
ATTACH;FMTTYPE=image/jpeg:https://ajlsa.com/wp-content/uploads/2017/10/new-orleans-1.jpg
END:VEVENT
END:VCALENDAR