BEGIN:VCALENDAR
VERSION:2.0
PRODID:-//AJL Ophthalmic - ECPv4.8.2//NONSGML v1.0//EN
CALSCALE:GREGORIAN
METHOD:PUBLISH
X-WR-CALNAME:AJL Ophthalmic
X-ORIGINAL-URL:https://ajlsa.com/en/
X-WR-CALDESC:Events for AJL Ophthalmic
BEGIN:VEVENT
DTSTART;TZID=UTC+1:20161014T080000
DTEND;TZID=UTC+1:20161018T170000
DTSTAMP:20260420T142128
CREATED:20160928T114424Z
LAST-MODIFIED:20190130T120656Z
UID:11525-1476432000-1476810000@ajlsa.com
SUMMARY:AAO Annual Meeting 2016
DESCRIPTION:\n					\n						AJL Ophthalmic attended AAO Congress from 14th to 18th October 2016 in Chicago \nAJL Ophthalmic attended as exhibitor the AAO Congress 2016\, hosted by the American Academy of Ophthalmology in conjunction with the Asia-Pacific Academy of Ophthalmology. The congress was held from 14th to 18th October at Mc Cormick Place\, Chicago. \nKnown as the place “Where all of Ophthalmology Meets” the Academy’s annual meeting is the world’s largest conference for eye physicians and surgeons. Taking place this time at Chicago\, the 120th AAO Congress integrated a complete scientific program dedicated to the needs of comprehensive ophthalmology and subspecialties. \nOphthalmologists\, surgeons and researchers from all around the world met there to learn about the latest and cutting-edge scientific advances in the field of ophthalmology. \nOur sales team was glad to present you our products and new projects in which the company is working on like its next launches: the Vacuum System for Intacs Users and the new Iris Expansion Ring\, Canabrava Ring\, designed by Sergio Canabrava MD\, in collaboration with AJL. \nIn addition\, during the congress\, AJL also organized an International Intacs User Group Meeting\, which was moderated by Peter Andrews M.D.; and counted with the following presenters: Mujtaba A. Qazi\, M.D.; Jonathan Solomon\, M.D.; George O. Waring IV\, M.D and Pere del Campo\, O.D. \n\n\n					\n				\n					\n						\n\n					\n				\n					\n						\n\n					\n				\n					\n						\n\n					\n				\n
URL:https://ajlsa.com/en/event/aao-annual-meeting-2016/
LOCATION:Chicago\, Chicago\, Estados Unidos
ATTACH;FMTTYPE=image/jpeg:https://ajlsa.com/wp-content/uploads/2016/09/imagen.jpg
END:VEVENT
END:VCALENDAR