BEGIN:VCALENDAR
VERSION:2.0
PRODID:-//AJL Ophthalmic - ECPv4.8.2//NONSGML v1.0//EN
CALSCALE:GREGORIAN
METHOD:PUBLISH
X-WR-CALNAME:AJL Ophthalmic
X-ORIGINAL-URL:https://ajlsa.com/en/
X-WR-CALDESC:Events for AJL Ophthalmic
BEGIN:VEVENT
DTSTART;TZID=UTC+1:20211008T080000
DTEND;TZID=UTC+1:20211011T170000
DTSTAMP:20260420T050458
CREATED:20210928T090434Z
LAST-MODIFIED:20211001T104527Z
UID:31658-1633680000-1633971600@ajlsa.com
SUMMARY:39th Congress of the ESCRS
DESCRIPTION:We are very glad to present our complete sympoium program during 39th Congress of the ESCRS \nPlease\, register to join us\n \n
URL:https://ajlsa.com/en/event/39th-congress-of-the-escrs/
END:VEVENT
END:VCALENDAR