BEGIN:VCALENDAR
VERSION:2.0
PRODID:-//AJL Ophthalmic - ECPv4.8.2//NONSGML v1.0//EN
CALSCALE:GREGORIAN
METHOD:PUBLISH
X-WR-CALNAME:AJL Ophthalmic
X-ORIGINAL-URL:https://ajlsa.com/en/
X-WR-CALDESC:Events for AJL Ophthalmic
BEGIN:VEVENT
DTSTART;TZID=UTC+1:20180921T080000
DTEND;TZID=UTC+1:20180925T170000
DTSTAMP:20260421T013916
CREATED:20180730T122903Z
LAST-MODIFIED:20190130T120650Z
UID:16706-1537516800-1537894800@ajlsa.com
SUMMARY:36th Congress of the ESCRS\, Vienna
DESCRIPTION:\n					\n						JOIN US AT BOOTH B211\n\n\n					\n				\n					\n						\n\n					\n				\n					\n						\n\n					\n				\n
URL:https://ajlsa.com/en/event/36th-congress-of-the-escrs-vienna/
LOCATION:Reed Messe Wie\, Messeplatz 1\, \, Austria\, Wien\, 1020\, Austria
ATTACH;FMTTYPE=image/jpeg:https://ajlsa.com/wp-content/uploads/2015/02/Vienna-2018-AJL.jpg
END:VEVENT
END:VCALENDAR