BEGIN:VCALENDAR
VERSION:2.0
PRODID:-//AJL Ophthalmic - ECPv4.8.2//NONSGML v1.0//EN
CALSCALE:GREGORIAN
METHOD:PUBLISH
X-WR-CALNAME:AJL Ophthalmic
X-ORIGINAL-URL:https://ajlsa.com/en/
X-WR-CALDESC:Events for AJL Ophthalmic
BEGIN:VEVENT
DTSTART;TZID=UTC+1:20170505T080000
DTEND;TZID=UTC+1:20170509T130000
DTSTAMP:20260420T124427
CREATED:20161130T151502Z
LAST-MODIFIED:20190130T120656Z
UID:12005-1493971200-1494334800@ajlsa.com
SUMMARY:ASCRS-ASOA CONGRESS 2017
DESCRIPTION:\n					\n						\n\n					\n				\n
URL:https://ajlsa.com/en/event/21st-escrs-winter-meeting-maastricht-2016/
ATTACH;FMTTYPE=image/jpeg:https://ajlsa.com/wp-content/uploads/2015/02/Imagen-congreso-2-1.jpg
END:VEVENT
END:VCALENDAR