BEGIN:VCALENDAR
VERSION:2.0
PRODID:-//AJL Ophthalmic - ECPv4.8.2//NONSGML v1.0//EN
CALSCALE:GREGORIAN
METHOD:PUBLISH
X-WR-CALNAME:AJL Ophthalmic
X-ORIGINAL-URL:https://ajlsa.com/en/
X-WR-CALDESC:Events for AJL Ophthalmic
BEGIN:VEVENT
DTSTART;VALUE=DATE:20200730
DTEND;VALUE=DATE:20200731
DTSTAMP:20260421T081349
CREATED:20200728T104728Z
LAST-MODIFIED:20200728T105032Z
UID:25464-1596067200-1596153599@ajlsa.com
SUMMARY:ENDO-K PRO SCIENTIFIC PRESENTATION
DESCRIPTION: \n
URL:https://ajlsa.com/en/event/endo-k-pro-scientific-presentation/
LOCATION:OFTALMOUNIVERSITY
ATTACH;FMTTYPE=image/jpeg:https://ajlsa.com/wp-content/uploads/2020/07/COMMERCIAL-LAUNCH-ENDOKPRONEORING-.jpg
END:VEVENT
END:VCALENDAR