BEGIN:VCALENDAR
VERSION:2.0
PRODID:-//AJL Ophthalmic - ECPv4.8.2//NONSGML v1.0//EN
CALSCALE:GREGORIAN
METHOD:PUBLISH
X-WR-CALNAME:AJL Ophthalmic
X-ORIGINAL-URL:https://ajlsa.com
X-WR-CALDESC:Eventos para AJL Ophthalmic
BEGIN:VEVENT
DTSTART;TZID=UTC+1:20220518T080000
DTEND;TZID=UTC+1:20220521T170000
DTSTAMP:20260419T133450
CREATED:20220503T142859Z
LAST-MODIFIED:20220504T101146Z
UID:34448-1652860800-1653152400@ajlsa.com
SUMMARY:37 Congreso SECOIR Zaragoza
DESCRIPTION: \n
URL:https://ajlsa.com/evento/37-congreso-secoir-zaragoza/
END:VEVENT
END:VCALENDAR