BEGIN:VCALENDAR
VERSION:2.0
PRODID:-//AJL Ophthalmic - ECPv4.8.2//NONSGML v1.0//EN
CALSCALE:GREGORIAN
METHOD:PUBLISH
X-WR-CALNAME:AJL Ophthalmic
X-ORIGINAL-URL:https://ajlsa.com
X-WR-CALDESC:Eventos para AJL Ophthalmic
BEGIN:VEVENT
DTSTART;TZID=UTC+1:20210325T190000
DTEND;TZID=UTC+1:20210325T200000
DTSTAMP:20260420T152356
CREATED:20210318T104221Z
LAST-MODIFIED:20210318T104221Z
UID:28602-1616698800-1616702400@ajlsa.com
SUMMARY:Canon Eye Care Webinar
DESCRIPTION:Aplicación e interpretación avanzadas de OCT y angiografía OCT en la práctica clínica\nREGISTRO\n\n
URL:https://ajlsa.com/evento/canon-eye-care-webinar/
END:VEVENT
END:VCALENDAR