BEGIN:VCALENDAR
VERSION:2.0
PRODID:-//AJL Ophthalmic - ECPv4.8.2//NONSGML v1.0//EN
CALSCALE:GREGORIAN
METHOD:PUBLISH
X-WR-CALNAME:AJL Ophthalmic
X-ORIGINAL-URL:https://ajlsa.com
X-WR-CALDESC:Eventos para AJL Ophthalmic
BEGIN:VEVENT
DTSTART;VALUE=DATE:20200730
DTEND;VALUE=DATE:20200731
DTSTAMP:20260421T040646
CREATED:20200724T100346Z
LAST-MODIFIED:20200727T063634Z
UID:25432-1596067200-1596153599@ajlsa.com
SUMMARY:PRESENTACION CIENTIFICA ENDO-K PRO
DESCRIPTION: \n  \n
URL:https://ajlsa.com/evento/presentacion-mundial-endo-k-pro/
ATTACH;FMTTYPE=image/jpeg:https://ajlsa.com/wp-content/uploads/2020/07/LANZAMIENTO-ENDOK-Y-NEORING.jpg
END:VEVENT
END:VCALENDAR