BEGIN:VCALENDAR
VERSION:2.0
PRODID:-//AJL Ophthalmic - ECPv4.8.2//NONSGML v1.0//EN
CALSCALE:GREGORIAN
METHOD:PUBLISH
X-WR-CALNAME:AJL Ophthalmic
X-ORIGINAL-URL:https://ajlsa.com
X-WR-CALDESC:Eventos para AJL Ophthalmic
BEGIN:VEVENT
DTSTART;TZID=UTC+1:20191012T080000
DTEND;TZID=UTC+1:20191015T170000
DTSTAMP:20260421T232042
CREATED:20190801T110240Z
LAST-MODIFIED:20190801T110346Z
UID:23118-1570867200-1571158800@ajlsa.com
SUMMARY:AAO Congress 2019
DESCRIPTION:SAVE THE DATE AND JOIN US. BOOTH 1751\n
URL:https://ajlsa.com/evento/aao-congress-2019/
ATTACH;FMTTYPE=image/png:https://ajlsa.com/wp-content/uploads/2019/08/cartel.png
END:VEVENT
END:VCALENDAR