BEGIN:VCALENDAR
VERSION:2.0
PRODID:-//AJL Ophthalmic - ECPv4.8.2//NONSGML v1.0//EN
CALSCALE:GREGORIAN
METHOD:PUBLISH
X-WR-CALNAME:AJL Ophthalmic
X-ORIGINAL-URL:https://ajlsa.com
X-WR-CALDESC:Eventos para AJL Ophthalmic
BEGIN:VEVENT
DTSTART;TZID=UTC+1:20180606T080000
DTEND;TZID=UTC+1:20180608T170000
DTSTAMP:20260423T015228
CREATED:20180320T132958Z
LAST-MODIFIED:20180320T132958Z
UID:14126-1528272000-1528477200@ajlsa.com
SUMMARY:XXVIII Congreso de la Sociedad Española de Cirugía Plástica Ocular y Orbitaria
DESCRIPTION:
URL:https://ajlsa.com/evento/xxviii-congreso-la-sociedad-espanola-cirugia-plastica-ocular-orbitaria/
LOCATION:Auditorio de Zaragoza\, Eduardo Ibarra\, 3\, Zaragoza\, Aragón\, 50009\, España
ATTACH;FMTTYPE=image/png:https://ajlsa.com/wp-content/uploads/2018/03/secpoo-logo.png
END:VEVENT
END:VCALENDAR